BEGIN:VCALENDAR
VERSION:2.0
PRODID:-//103.209.24.70//NONSGML kigkonsult.se iCalcreator 2.26.9//
CALSCALE:GREGORIAN
METHOD:PUBLISH
X-WR-CALNAME:Boronia K-12 College
X-WR-CALDESC:Proudly Learning Together
X-FROM-URL:https://www.boroniak-12.vic.edu.au
X-WR-TIMEZONE:Australia/Melbourne
BEGIN:VTIMEZONE
TZID:Australia/Melbourne
X-LIC-LOCATION:Australia/Melbourne
BEGIN:STANDARD
DTSTART:20210404T030000
TZOFFSETFROM:+1100
TZOFFSETTO:+1000
RDATE:20220403T030000
TZNAME:AEST
END:STANDARD
BEGIN:DAYLIGHT
DTSTART:20201004T020000
TZOFFSETFROM:+1000
TZOFFSETTO:+1100
RDATE:20211003T020000
TZNAME:AEDT
END:DAYLIGHT
END:VTIMEZONE
BEGIN:VEVENT
UID:8865110320202200
DTSTAMP:20210301T064556Z
CATEGORIES:
CONTACT:
DESCRIPTION:SRC Fundraising Activity
DTSTART;TZID=Australia/Melbourne:20200312T090000
DTEND;TZID=Australia/Melbourne:20200312T151500
SEQUENCE:0
SUMMARY:Crazy Sock/Hair Day
URL:https://www.boroniak-12.vic.edu.au/event/crazy-sock-hair-day/
X-ALT-DESC;FMTTYPE=text/html:<!DOCTYPE HTML PUBLIC '-//W3C//DTD HTML 3.2//E
 N'>\\n<HTML>\\n<HEAD>\\n<TITLE></TITLE>\\n</HEAD>\\n<BODY><p>SRC Fundraisi
 ng Activity</p>\n</BODY></HTML>
END:VEVENT
END:VCALENDAR
