BEGIN:VCALENDAR
VERSION:2.0
PRODID:-//103.209.24.70//NONSGML kigkonsult.se iCalcreator 2.26.9//
CALSCALE:GREGORIAN
METHOD:PUBLISH
X-WR-CALNAME:Boronia K-12 College
X-WR-CALDESC:Proudly Learning Together
X-FROM-URL:https://www.boroniak-12.vic.edu.au
X-WR-TIMEZONE:Australia/Melbourne
BEGIN:VTIMEZONE
TZID:Australia/Melbourne
X-LIC-LOCATION:Australia/Melbourne
BEGIN:STANDARD
DTSTART:20210404T030000
TZOFFSETFROM:+1100
TZOFFSETTO:+1000
RDATE:20220403T030000
TZNAME:AEST
END:STANDARD
BEGIN:DAYLIGHT
DTSTART:20201004T020000
TZOFFSETFROM:+1000
TZOFFSETTO:+1100
RDATE:20211003T020000
TZNAME:AEDT
END:DAYLIGHT
END:VTIMEZONE
BEGIN:VEVENT
UID:10904220320211300
DTSTAMP:20210227T122445Z
CATEGORIES:
CONTACT:
DESCRIPTION:
DTSTART;TZID=Australia/Melbourne:20210323T110000
DTEND;TZID=Australia/Melbourne:20210324T105959
SEQUENCE:0
SUMMARY:EMR Swimming Finals
URL:https://www.boroniak-12.vic.edu.au/event/emr-swimming-finals/
END:VEVENT
END:VCALENDAR
